BEGIN:VCALENDAR
VERSION:2.0
PRODID:-//ChamberMaster//Event Calendar 2.0//EN
METHOD:PUBLISH
X-PUBLISHED-TTL:P3D
REFRESH-INTERVAL:P3D
CALSCALE:GREGORIAN
BEGIN:VEVENT
DTSTART;VALUE=DATE:20101016
DTEND;VALUE=DATE:20101020
TRANSP:TRANSPARENT
X-MICROSOFT-CDO-ALLDAYEVENT:TRUE
SUMMARY:Fall Break at Dyersburg State
DESCRIPTION:Dyersburg State Community College will have its Fall break October 16 - October 19\, 2010.
X-ALT-DESC;FMTTYPE=text/html:Dyersburg State Community College will have its Fall break October 16 - October 19\, 2010.
LOCATION:Dyersburg State
UID:e.576.955
SEQUENCE:3
DTSTAMP:20260419T195416Z
URL:https://business.dyerchamber.com/events/details/fall-break-at-dyersburg-state-10-16-2010-955
END:VEVENT

END:VCALENDAR
