BEGIN:VCALENDAR
VERSION:2.0
PRODID:-//ChamberMaster//Event Calendar 2.0//EN
METHOD:PUBLISH
X-PUBLISHED-TTL:P3D
REFRESH-INTERVAL:P3D
CALSCALE:GREGORIAN
BEGIN:VEVENT
DTSTART:20340610T130000Z
DTEND:20340610T170000Z
X-MICROSOFT-CDO-ALLDAYEVENT:FALSE
SUMMARY:Farmers Market Opening Day
DESCRIPTION:The Main Street Farmers Market\, a program under the Dyersburg/Dyer County Chamber of Commerce and managed by Main Street Dyersburg\, aims to facilitate direct farm marketing of locally grown fresh produce in downtown Dyersburg Join us at the Main Street Farmers Market every Tuesday and Saturday from mid-June through September.\n\n\n\nVENDORS MUST BE PRE-APPROVED
X-ALT-DESC;FMTTYPE=text/html:The Main Street Farmers Market\, a program under the Dyersburg/Dyer County Chamber of Commerce and managed by Main Street Dyersburg\, aims to facilitate direct farm marketing of locally grown fresh produce in downtown Dyersburg Join us at the Main Street Farmers Market every Tuesday and Saturday from mid-June through September.<br />\n<br />\nVENDORS MUST BE PRE-APPROVED
LOCATION:
UID:e.576.4510
SEQUENCE:3
DTSTAMP:20260421T163849Z
URL:https://business.dyerchamber.com/events/details/farmers-market-opening-day-06-10-2034-4510
END:VEVENT

END:VCALENDAR
