BEGIN:VCALENDAR
VERSION:2.0
PRODID:-//ChamberMaster//Event Calendar 2.0//EN
METHOD:PUBLISH
X-PUBLISHED-TTL:P3D
REFRESH-INTERVAL:P3D
CALSCALE:GREGORIAN
BEGIN:VEVENT
DTSTART:20320612T130000Z
DTEND:20320612T170000Z
X-MICROSOFT-CDO-ALLDAYEVENT:FALSE
SUMMARY:Farmers Market Opening Day
DESCRIPTION:The Main Street Farmers Market\, a program under the Dyersburg/Dyer County Chamber of Commerce and managed by Main Street Dyersburg\, aims to facilitate direct farm marketing of locally grown fresh produce in downtown Dyersburg Join us at the Main Street Farmers Market every Tuesday and Saturday from mid-June through September.\n\n\n\nVENDORS MUST BE PRE-APPROVED
X-ALT-DESC;FMTTYPE=text/html:The Main Street Farmers Market\, a program under the Dyersburg/Dyer County Chamber of Commerce and managed by Main Street Dyersburg\, aims to facilitate direct farm marketing of locally grown fresh produce in downtown Dyersburg Join us at the Main Street Farmers Market every Tuesday and Saturday from mid-June through September.<br />\n<br />\nVENDORS MUST BE PRE-APPROVED
LOCATION:
UID:e.576.4508
SEQUENCE:3
DTSTAMP:20260423T051847Z
URL:https://business.dyerchamber.com/events/details/farmers-market-opening-day-06-12-2032-4508
END:VEVENT

END:VCALENDAR
