BEGIN:VCALENDAR
VERSION:2.0
PRODID:-//ChamberMaster//Event Calendar 2.0//EN
METHOD:PUBLISH
X-PUBLISHED-TTL:P3D
REFRESH-INTERVAL:P3D
CALSCALE:GREGORIAN
BEGIN:VEVENT
DTSTART:20331023T000000Z
DTEND:20331023T020000Z
X-MICROSOFT-CDO-ALLDAYEVENT:FALSE
SUMMARY:Find Your Faith Youth Conference
DESCRIPTION:Come join us at our Annual Youth Conference. Hear an inspiring word from Dean Sikes of You Matter Ministries! For more information\, call or text 731-903-0491.
X-ALT-DESC;FMTTYPE=text/html:<span style="background-color:rgb(255\, 255\, 255)\; color:rgb(8\, 8\, 9)\; font-family:segoe ui historic\,segoe ui\,helvetica\,arial\,sans-serif\; font-size:15px">Come join us at our Annual Youth Conference. Hear an inspiring word from Dean Sikes of You Matter Ministries! For more information\, call or text 731-903-0491.</span>
LOCATION:140 Hawthorne Avenue Dyersburg\, TN 38024
UID:e.576.4912
SEQUENCE:3
DTSTAMP:20260422T060324Z
URL:https://business.dyerchamber.com/events/details/find-your-faith-youth-conference-10-22-2033-4912
END:VEVENT

END:VCALENDAR
