BEGIN:VCALENDAR
VERSION:2.0
PRODID:-//ChamberMaster//Event Calendar 2.0//EN
METHOD:PUBLISH
X-PUBLISHED-TTL:P3D
REFRESH-INTERVAL:P3D
CALSCALE:GREGORIAN
BEGIN:VEVENT
DTSTART;VALUE=DATE:20101029
DTEND;VALUE=DATE:20101030
TRANSP:TRANSPARENT
X-MICROSOFT-CDO-ALLDAYEVENT:TRUE
SUMMARY:Fitting It Together: Retooling for Healthy Communities
DESCRIPTION:
X-ALT-DESC;FMTTYPE=text/html:
LOCATION:
UID:e.576.969
SEQUENCE:3
DTSTAMP:20260419T213059Z
URL:https://business.dyerchamber.com/events/details/fitting-it-together-retooling-for-healthy-communities-10-29-2010-969
END:VEVENT

END:VCALENDAR
