BEGIN:VCALENDAR
VERSION:2.0
PRODID:-//ChamberMaster//Event Calendar 2.0//EN
METHOD:PUBLISH
X-PUBLISHED-TTL:P3D
REFRESH-INTERVAL:P3D
CALSCALE:GREGORIAN
BEGIN:VEVENT
DTSTART:20091028T180000Z
DTEND:20091028T190000Z
X-MICROSOFT-CDO-ALLDAYEVENT:FALSE
SUMMARY:Foster Parent Orientation at Youth Villages
DESCRIPTION:
X-ALT-DESC;FMTTYPE=text/html:
LOCATION:1865 Hwy 51 Bypass N Dyersburg\, TN
UID:e.576.198
SEQUENCE:3
DTSTAMP:20260422T053559Z
URL:https://business.dyerchamber.com/events/details/foster-parent-orientation-at-youth-villages-10-28-2009-198
END:VEVENT

END:VCALENDAR
