BEGIN:VCALENDAR
VERSION:2.0
PRODID:-//ChamberMaster//Event Calendar 2.0//EN
METHOD:PUBLISH
X-PUBLISHED-TTL:P3D
REFRESH-INTERVAL:P3D
CALSCALE:GREGORIAN
BEGIN:VEVENT
DTSTART:20101009T150000Z
DTEND:20101009T150000Z
X-MICROSOFT-CDO-ALLDAYEVENT:FALSE
SUMMARY:Friends of the Library Kitchen Tour and Tasting
DESCRIPTION:Tickets available at McIver's Grant Public Library Sept. 3
X-ALT-DESC;FMTTYPE=text/html:Tickets available at McIver's Grant Public Library Sept. 3
LOCATION:
UID:e.576.944
SEQUENCE:3
DTSTAMP:20260419T195733Z
URL:https://business.dyerchamber.com/events/details/friends-of-the-library-kitchen-tour-and-tasting-10-09-2010-944
END:VEVENT

END:VCALENDAR
