BEGIN:VCALENDAR
VERSION:2.0
PRODID:-//ChamberMaster//Event Calendar 2.0//EN
METHOD:PUBLISH
X-PUBLISHED-TTL:P3D
REFRESH-INTERVAL:P3D
CALSCALE:GREGORIAN
BEGIN:VEVENT
DTSTART:20100807T130000Z
DTEND:20100807T170000Z
X-MICROSOFT-CDO-ALLDAYEVENT:FALSE
SUMMARY:Gibson Electric Membership Corporation Annual Members' Meeting
DESCRIPTION:Gibson EMC member may register from 8:00 a.m. to 10:30 a.m. to win door prizes that will be given away throughout the morning. Schedule of Events:8:00 a.m. Registration\, exhibits and health fair open9:15 a.m. Scott Myatt performs10:00 a.m. Crabb Revival performs10:30 a.m. Registration closes11:00 a.m. Business meeting begins11:30 a.m. Barbecue and hotdog lunches available
X-ALT-DESC;FMTTYPE=text/html:<div>Gibson EMC member may register from 8:00 a.m. to 10:30 a.m. to win door prizes that will be given away throughout the morning.</div><div>&nbsp\;</div><div>Schedule of Events:</div><div>8:00 a.m. Registration\, exhibits and health fair open</div><div>9:15 a.m. Scott Myatt performs</div><div>10:00 a.m. Crabb Revival performs</div><div>10:30 a.m. Registration closes</div><div>11:00 a.m. Business meeting begins</div><div>11:30 a.m. Barbecue and hotdog lunches available</div>
LOCATION:Crocket County High School2014 Hwy 88\, Alamo
UID:e.576.941
SEQUENCE:3
DTSTAMP:20260419T231221Z
URL:https://business.dyerchamber.com/events/details/gibson-electric-membership-corporation-annual-members-meeting-08-07-2010-941
END:VEVENT

END:VCALENDAR
