BEGIN:VCALENDAR
VERSION:2.0
PRODID:-//ChamberMaster//Event Calendar 2.0//EN
METHOD:PUBLISH
X-PUBLISHED-TTL:P3D
REFRESH-INTERVAL:P3D
CALSCALE:GREGORIAN
BEGIN:VEVENT
DTSTART;VALUE=DATE:20091118
DTEND;VALUE=DATE:20091119
TRANSP:TRANSPARENT
X-MICROSOFT-CDO-ALLDAYEVENT:TRUE
SUMMARY:Greenways and Scenic Byways Regional Forum
DESCRIPTION:A unique and comprehensive look at the projects that make up our Greenway system in the states of Arkansas\, Tennessee and Mississippi. A ribbon cutting for the new FHWA National Scenic Byway for our Mississippi River counties will be held and Byway leaders from four different states will be in attendance. Learn what the NSB program is all about and what benefits we can expect for incoming visitors and regional citizens in the Mississippi River Corridor in Tennessee.
X-ALT-DESC;FMTTYPE=text/html:A unique and comprehensive look at the projects that make up our Greenway system in the states of Arkansas\, Tennessee and Mississippi. A ribbon cutting for the new FHWA National Scenic Byway for our Mississippi River counties will be held and Byway leaders from four different states will be in attendance. Learn what the NSB program is all about and what benefits we can expect for incoming visitors and regional citizens in the Mississippi River Corridor in Tennessee.
LOCATION:Mud Island River Park - Theatre and River Terrace - downtown Memphis
UID:e.576.191
SEQUENCE:3
DTSTAMP:20260422T035800Z
URL:https://business.dyerchamber.com/events/details/greenways-and-scenic-byways-regional-forum-11-18-2009-191
END:VEVENT

END:VCALENDAR
