BEGIN:VCALENDAR
VERSION:2.0
PRODID:-//ChamberMaster//Event Calendar 2.0//EN
METHOD:PUBLISH
X-PUBLISHED-TTL:P3D
REFRESH-INTERVAL:P3D
CALSCALE:GREGORIAN
BEGIN:VEVENT
DTSTART:20101216T230000Z
DTEND:20101217T010000Z
X-MICROSOFT-CDO-ALLDAYEVENT:FALSE
SUMMARY:Holiday After Hours
DESCRIPTION:Please join us for our annual Holida After Hours for great food\, drinks\, entertainment\, and more!
X-ALT-DESC;FMTTYPE=text/html:Please join us for our annual Holida After Hours for great food\, drinks\, entertainment\, and more!
LOCATION:The Lannom Center
UID:e.576.977
SEQUENCE:3
DTSTAMP:20260421T084310Z
URL:https://business.dyerchamber.com/events/details/holiday-after-hours-12-16-2010-977
END:VEVENT

END:VCALENDAR
