BEGIN:VCALENDAR
VERSION:2.0
PRODID:-//ChamberMaster//Event Calendar 2.0//EN
METHOD:PUBLISH
X-PUBLISHED-TTL:P3D
REFRESH-INTERVAL:P3D
CALSCALE:GREGORIAN
BEGIN:VEVENT
DTSTART:20091217T230000Z
DTEND:20091218T010000Z
X-MICROSOFT-CDO-ALLDAYEVENT:FALSE
SUMMARY:Holiday After Hours
DESCRIPTION:Entertainment provided by Matthew Gant
X-ALT-DESC;FMTTYPE=text/html:<div>Entertainment provided by Matthew Gant</div>
LOCATION:The Lannom Center for Business Development2000 Commerce AvenueDyersburg\, TN 38024
UID:e.576.235
SEQUENCE:3
DTSTAMP:20260422T035432Z
URL:https://business.dyerchamber.com/events/details/holiday-after-hours-12-17-2009-235
END:VEVENT

END:VCALENDAR
