BEGIN:VCALENDAR
VERSION:2.0
PRODID:-//ChamberMaster//Event Calendar 2.0//EN
METHOD:PUBLISH
X-PUBLISHED-TTL:P3D
REFRESH-INTERVAL:P3D
CALSCALE:GREGORIAN
BEGIN:VEVENT
DTSTART;VALUE=DATE:20100925
DTEND;VALUE=DATE:20100926
TRANSP:TRANSPARENT
X-MICROSOFT-CDO-ALLDAYEVENT:TRUE
SUMMARY:Ida Theus Mays Scholarship Banquet
DESCRIPTION:Dyersburg\, TN ? WDIA radio talk show host Bev Johnson will deliver the keynote address at the annual Ida Mae Theus-Mays Memorial Scholarship and Graduate Honor banquet.  The event will be held at the Lannom Center in Dyersburg on Saturday\, September 25 at 6:30 p.m.\n\n\n\nJohnson has worked in the broadcast industry for 34 years.  For 26 of these years\, Johnson has been a familiar voice on WDIA-AM radio\; and for 23 years of those years she has hosted "The Bev Johnson Show.  She provides her listeners with uplifting\, no-nonsense opinions and advice. \n\n\n\nWDIA-AM\, located in Memphis\, was the first radio station in the country programmed by African-Americans for African-Americans.  It has been in operation for 60 years.\n\n\n\nAs in years past\, in addition to a dynamic and inspirational speaker\, the evening will present a full and varied program of music\, and a complete dinner.  Will and Jill Donnell (originally from Dyersburg) of Beyond Me music ministry along with Shea Norman of Memphis and the Sons of Thunder from Dyersburg will provide musical selections.  The Sons of David--Frank Shaw III\, Reginald Taylor\, Caleb Barrett Theus Williams\, Larry Jones\, Jr.\, and Kevin Clayborne--will provide music during dinner. \n\n\n\nToast master and mistress for the festivities will be Larry and Pat Williams. Also making remarks and presentations will be Dr. Karen Bowyer\, DSCC President\, former DSCC Vice President Buck Tarpley\, DSCC Vice President for Institutional Advancement Tina Morris\, Faith Apostolic Church Pastor Bishop J. Denard Williams\, and DSCC retired Associate Professor of Administrative Office Support\, now Faculty Emeritus/Title III Activity Director\, Emma Mays-Reynolds.  Banquet Co-Coordinator Dr. Darnishia R. Williams will recognize the Faith Deliverance Apostolic Church 2010 graduates.\n\n\n\nThe event and scholarship are a celebration of the memory of a devout believer and supporter\n\nof education and founder of Faith Deliverance Apostolic Church\, Ida Mae Theus-Mays\, This scholarship fund was established  to help provide an education for second-year students at DSCC. Preferably\, recipients should be African-American\, must have and maintain a minimum 2.5 grade point average\, must be active in campus life at DSCC\, and must be an active member of a Christian-centered church. In coordination with the Financial Aid Office and the financial aid guidelines at Dyersburg\, State the trustees of Faith Deliverance Apostolic Church make the selection. The process includes the submission of an application\, a letter from the applicant and two reference letters.\n\n\n\nCommunity members may purchase tickets by contacting Emma Reynolds at 731/285-8619 or 731/445-9348. Tickets cost $50 each are available in the DSCC Business Office located in the Eller Building on the Dyersburg campus.
X-ALT-DESC;FMTTYPE=text/html:Dyersburg\, TN ? WDIA radio talk show host Bev Johnson will deliver the keynote address at the annual Ida Mae Theus-Mays Memorial Scholarship and Graduate Honor banquet.  The event will be held at the Lannom Center in Dyersburg on Saturday\, September 25 at 6:30 p.m.\n<br>\n<br>Johnson has worked in the broadcast industry for 34 years.  For 26 of these years\, Johnson has been a familiar voice on WDIA-AM radio\; and for 23 years of those years she has hosted "The Bev Johnson Show.  She provides her listeners with uplifting\, no-nonsense opinions and advice. \n<br>\n<br>WDIA-AM\, located in Memphis\, was the first radio station in the country programmed by African-Americans for African-Americans.  It has been in operation for 60 years.\n<br>\n<br>As in years past\, in addition to a dynamic and inspirational speaker\, the evening will present a full and varied program of music\, and a complete dinner.  Will and Jill Donnell (originally from Dyersburg) of Beyond Me music ministry along with Shea Norman of Memphis and the Sons of Thunder from Dyersburg will provide musical selections.  The Sons of David--Frank Shaw III\, Reginald Taylor\, Caleb Barrett Theus Williams\, Larry Jones\, Jr.\, and Kevin Clayborne--will provide music during dinner. \n<br>\n<br>Toast master and mistress for the festivities will be Larry and Pat Williams. Also making remarks and presentations will be Dr. Karen Bowyer\, DSCC President\, former DSCC Vice President Buck Tarpley\, DSCC Vice President for Institutional Advancement Tina Morris\, Faith Apostolic Church Pastor Bishop J. Denard Williams\, and DSCC retired Associate Professor of Administrative Office Support\, now Faculty Emeritus/Title III Activity Director\, Emma Mays-Reynolds.  Banquet Co-Coordinator Dr. Darnishia R. Williams will recognize the Faith Deliverance Apostolic Church 2010 graduates.\n<br>\n<br>The event and scholarship are a celebration of the memory of a devout believer and supporter\n<br>of education and founder of Faith Deliverance Apostolic Church\, Ida Mae Theus-Mays\, This scholarship fund was established  to help provide an education for second-year students at DSCC. Preferably\, recipients should be African-American\, must have and maintain a minimum 2.5 grade point average\, must be active in campus life at DSCC\, and must be an active member of a Christian-centered church. In coordination with the Financial Aid Office and the financial aid guidelines at Dyersburg\, State the trustees of Faith Deliverance Apostolic Church make the selection. The process includes the submission of an application\, a letter from the applicant and two reference letters.\n<br>\n<br>Community members may purchase tickets by contacting Emma Reynolds at 731/285-8619 or 731/445-9348. Tickets cost $50 each are available in the DSCC Business Office located in the Eller Building on the Dyersburg campus.\n<br>
LOCATION:The Lannom Center
UID:e.576.957
SEQUENCE:3
DTSTAMP:20260419T215243Z
URL:https://business.dyerchamber.com/events/details/ida-theus-mays-scholarship-banquet-09-25-2010-957
END:VEVENT

END:VCALENDAR
