BEGIN:VCALENDAR
VERSION:2.0
PRODID:-//ChamberMaster//Event Calendar 2.0//EN
METHOD:PUBLISH
X-PUBLISHED-TTL:P3D
REFRESH-INTERVAL:P3D
CALSCALE:GREGORIAN
BEGIN:VEVENT
DTSTART:20100723T170000Z
DTEND:20100723T180000Z
X-MICROSOFT-CDO-ALLDAYEVENT:FALSE
SUMMARY:July Diplomat Meeting
DESCRIPTION:Please contact Ellen Carrington at 731.285.3433 if you are interested in surviving as a Diplomat for the Dyersburg/Dyer County Chamber of Commerce.
X-ALT-DESC;FMTTYPE=text/html:<div>Please contact Ellen Carrington at 731.285.3433 if you are interested in surviving as a Diplomat for the Dyersburg/Dyer County Chamber of Commerce.</div>
LOCATION:
UID:e.576.938
SEQUENCE:3
DTSTAMP:20260420T005847Z
URL:https://business.dyerchamber.com/events/details/july-diplomat-meeting-07-23-2010-938
END:VEVENT

END:VCALENDAR
