BEGIN:VCALENDAR
VERSION:2.0
PRODID:-//ChamberMaster//Event Calendar 2.0//EN
METHOD:PUBLISH
X-PUBLISHED-TTL:P3D
REFRESH-INTERVAL:P3D
CALSCALE:GREGORIAN
BEGIN:VEVENT
DTSTART:20100925T140000Z
DTEND:20100925T200000Z
X-MICROSOFT-CDO-ALLDAYEVENT:FALSE
SUMMARY:Main Street Fall Festival
DESCRIPTION:Main Street Dyersburg presents the Fall Festival in conjunction with the Forked Deer Car Club Antique Car Show.
X-ALT-DESC;FMTTYPE=text/html:Main Street Dyersburg presents the Fall Festival in conjunction with the Forked Deer Car Club Antique Car Show.  
LOCATION:Mill Avenue and the River Park downtown Dyersburg
UID:e.576.951
SEQUENCE:3
DTSTAMP:20260419T230938Z
URL:https://business.dyerchamber.com/events/details/main-street-fall-festival-09-25-2010-951
END:VEVENT

END:VCALENDAR
