BEGIN:VCALENDAR
VERSION:2.0
PRODID:-//ChamberMaster//Event Calendar 2.0//EN
METHOD:PUBLISH
X-PUBLISHED-TTL:P3D
REFRESH-INTERVAL:P3D
CALSCALE:GREGORIAN
BEGIN:VEVENT
DTSTART;VALUE=DATE:20091130
DTEND;VALUE=DATE:20091223
TRANSP:TRANSPARENT
X-MICROSOFT-CDO-ALLDAYEVENT:TRUE
SUMMARY:Mall Stocking Giveaway
DESCRIPTION:Visit three of your favorite Dyersburg Mall stores to register to win the Mall Stocking\, valued at $400.
X-ALT-DESC;FMTTYPE=text/html:Visit three of your favorite Dyersburg Mall stores to register to win the Mall Stocking\, valued at $400.
LOCATION:Dyersburg Mall
UID:e.576.229
SEQUENCE:3
DTSTAMP:20260422T035433Z
URL:https://business.dyerchamber.com/events/details/mall-stocking-giveaway-11-30-2009-229
END:VEVENT

END:VCALENDAR
