BEGIN:VCALENDAR
VERSION:2.0
PRODID:-//ChamberMaster//Event Calendar 2.0//EN
METHOD:PUBLISH
X-PUBLISHED-TTL:P3D
REFRESH-INTERVAL:P3D
CALSCALE:GREGORIAN
BEGIN:VEVENT
DTSTART:20091106T010000Z
DTEND:20091106T030000Z
X-MICROSOFT-CDO-ALLDAYEVENT:FALSE
SUMMARY:Martin: A Life of Martin Luther
DESCRIPTION:Martin: A Life of Martin Luther is an original one-man portrayal written and performed by Allan Lemke
X-ALT-DESC;FMTTYPE=text/html:<div>Martin: A Life of Martin Luther is an original one-man portrayal written and performed by Allan Lemke</div>
LOCATION:Trinity Lutheran Church 1500 Highway 51 Bypass North
UID:e.576.206
SEQUENCE:3
DTSTAMP:20260422T035825Z
URL:https://business.dyerchamber.com/events/details/martin-a-life-of-martin-luther-11-05-2009-206
END:VEVENT

END:VCALENDAR
