BEGIN:VCALENDAR
VERSION:2.0
PRODID:-//ChamberMaster//Event Calendar 2.0//EN
METHOD:PUBLISH
X-PUBLISHED-TTL:P3D
REFRESH-INTERVAL:P3D
CALSCALE:GREGORIAN
BEGIN:VEVENT
DTSTART:20100806T230000Z
DTEND:20100807T020000Z
X-MICROSOFT-CDO-ALLDAYEVENT:FALSE
SUMMARY:Meet the Artist: Paula Woody
DESCRIPTION:A reception for artist Paula Prather Woody will be held on Friday\, August 6\, 2010 from 6 - 9 pm at Inga's in Kennett\, Missouri located on the South side of the Courthouse square. Paula is an artist from Tennessee who paints nature impressions in watercolor\, oil and mixed water media\, with an emphasis on fluid colors and the beauty of God's creations. Live music will be provided by Viretta Sexton at the piano and refreshments will be served. The artist is making a signed\, Limited Edition print\, which has been custom framed by Inga's\, available as a door prize. For more information you may call 870-598-3405 or 870-598-4906.
X-ALT-DESC;FMTTYPE=text/html:A reception for artist Paula Prather Woody will be held on Friday\, August 6\, 2010 from 6 - 9 pm at Inga's in Kennett\, Missouri located on the South side of the Courthouse square. Paula is an artist from Tennessee who paints nature impressions in watercolor\, oil and mixed water media\, with an emphasis on fluid colors and the beauty of God's creations. Live music will be provided by Viretta Sexton at the piano and refreshments will be served. The artist is making a signed\, Limited Edition print\, which has been custom framed by Inga's\, available as a door prize. For more information you may call 870-598-3405 or 870-598-4906. 
LOCATION:Inga's Gallery\, 105 South Side Square\, Kennett\, Missouri
UID:e.576.943
SEQUENCE:3
DTSTAMP:20260419T231215Z
URL:https://business.dyerchamber.com/events/details/meet-the-artist-paula-woody-08-06-2010-943
END:VEVENT

END:VCALENDAR
