BEGIN:VCALENDAR
VERSION:2.0
PRODID:-//ChamberMaster//Event Calendar 2.0//EN
METHOD:PUBLISH
X-PUBLISHED-TTL:P3D
REFRESH-INTERVAL:P3D
CALSCALE:GREGORIAN
BEGIN:VEVENT
DTSTART;VALUE=DATE:20101016
DTEND;VALUE=DATE:20101017
TRANSP:TRANSPARENT
X-MICROSOFT-CDO-ALLDAYEVENT:TRUE
SUMMARY:Mission March - Downtown
DESCRIPTION:
X-ALT-DESC;FMTTYPE=text/html:
LOCATION:
UID:e.576.963
SEQUENCE:3
DTSTAMP:20260419T195251Z
URL:https://business.dyerchamber.com/events/details/mission-march-downtown-10-16-2010-963
END:VEVENT

END:VCALENDAR
