BEGIN:VCALENDAR
VERSION:2.0
PRODID:-//ChamberMaster//Event Calendar 2.0//EN
METHOD:PUBLISH
X-PUBLISHED-TTL:P3D
REFRESH-INTERVAL:P3D
CALSCALE:GREGORIAN
BEGIN:VEVENT
DTSTART;VALUE=DATE:20091002
DTEND;VALUE=DATE:20091005
TRANSP:TRANSPARENT
X-MICROSOFT-CDO-ALLDAYEVENT:TRUE
SUMMARY:Reelfoot Lake Arts & Crafts Festival
DESCRIPTION:
X-ALT-DESC;FMTTYPE=text/html:
LOCATION:Reelfoot Lake\, Tiptonville\, TN
UID:e.576.190
SEQUENCE:3
DTSTAMP:20260422T053653Z
URL:https://business.dyerchamber.com/events/details/reelfoot-lake-arts-crafts-festival-10-02-2009-190
END:VEVENT

END:VCALENDAR
