BEGIN:VCALENDAR
VERSION:2.0
PRODID:-//ChamberMaster//Event Calendar 2.0//EN
METHOD:PUBLISH
X-PUBLISHED-TTL:P3D
REFRESH-INTERVAL:P3D
CALSCALE:GREGORIAN
BEGIN:VEVENT
DTSTART:20100709T150000Z
DTEND:20100709T160000Z
X-MICROSOFT-CDO-ALLDAYEVENT:FALSE
SUMMARY:Ribbon Cutting - Dyersburg Allergy Clinic
DESCRIPTION:Please come join us at 10 a.m. on Friday\, July 9th at the Dyersburg Allergy Clinic located in the offices of Drs. Moore and Caylor on East Tickle Street.
X-ALT-DESC;FMTTYPE=text/html:<div>Please come join us at 10 a.m. on Friday\, July 9th at the Dyersburg Allergy Clinic located in the offices of Drs. Moore and Caylor on East Tickle Street.</div>
LOCATION:
UID:e.576.936
SEQUENCE:3
DTSTAMP:20260420T022024Z
URL:https://business.dyerchamber.com/events/details/ribbon-cutting-dyersburg-allergy-clinic-07-09-2010-936
END:VEVENT

END:VCALENDAR
