BEGIN:VCALENDAR
VERSION:2.0
PRODID:-//ChamberMaster//Event Calendar 2.0//EN
METHOD:PUBLISH
X-PUBLISHED-TTL:P3D
REFRESH-INTERVAL:P3D
CALSCALE:GREGORIAN
BEGIN:VEVENT
DTSTART:20100729T221500Z
DTEND:20100729T231500Z
X-MICROSOFT-CDO-ALLDAYEVENT:FALSE
SUMMARY:Ribbon Cutting - Dyersburg Regional Women's Center Renovation
DESCRIPTION:Ribbon Cutting at Dyersburg Regional Medical Center featuring the newly renovated Women's Center.
X-ALT-DESC;FMTTYPE=text/html:<div>Ribbon Cutting at Dyersburg Regional Medical Center featuring the newly renovated Women's Center.</div>
LOCATION:Dyersburg Regional Medical Center - Women's Center
UID:e.576.933
SEQUENCE:3
DTSTAMP:20260420T005357Z
URL:https://business.dyerchamber.com/events/details/ribbon-cutting-dyersburg-regional-women-s-center-renovation-07-29-2010-933
END:VEVENT

END:VCALENDAR
