BEGIN:VCALENDAR
VERSION:2.0
PRODID:-//ChamberMaster//Event Calendar 2.0//EN
METHOD:PUBLISH
X-PUBLISHED-TTL:P3D
REFRESH-INTERVAL:P3D
CALSCALE:GREGORIAN
BEGIN:VEVENT
DTSTART:20101019T221500Z
DTEND:20101019T231500Z
X-MICROSOFT-CDO-ALLDAYEVENT:FALSE
SUMMARY:Ribbon Cutting for Ella Bentley
DESCRIPTION:
X-ALT-DESC;FMTTYPE=text/html:
LOCATION:at the Lannom Center
UID:e.576.968
SEQUENCE:3
DTSTAMP:20260419T195407Z
URL:https://business.dyerchamber.com/events/details/ribbon-cutting-for-ella-bentley-10-19-2010-968
END:VEVENT

END:VCALENDAR
