BEGIN:VCALENDAR
VERSION:2.0
PRODID:-//ChamberMaster//Event Calendar 2.0//EN
METHOD:PUBLISH
X-PUBLISHED-TTL:P3D
REFRESH-INTERVAL:P3D
CALSCALE:GREGORIAN
BEGIN:VEVENT
DTSTART:20091208T163000Z
DTEND:20091208T170000Z
X-MICROSOFT-CDO-ALLDAYEVENT:FALSE
SUMMARY:Ribbon Cutting - Security Bank in Newbern
DESCRIPTION:
X-ALT-DESC;FMTTYPE=text/html:
LOCATION:
UID:e.576.232
SEQUENCE:3
DTSTAMP:20260422T035645Z
URL:https://business.dyerchamber.com/events/details/ribbon-cutting-security-bank-in-newbern-12-08-2009-232
END:VEVENT

END:VCALENDAR
