BEGIN:VCALENDAR
VERSION:2.0
PRODID:-//ChamberMaster//Event Calendar 2.0//EN
METHOD:PUBLISH
X-PUBLISHED-TTL:P3D
REFRESH-INTERVAL:P3D
CALSCALE:GREGORIAN
BEGIN:VEVENT
DTSTART:20091201T160000Z
DTEND:20091201T163000Z
X-MICROSOFT-CDO-ALLDAYEVENT:FALSE
SUMMARY:Ribbon Cutting - The Clinic 530 E. Parkview\, Dyersburg
DESCRIPTION:
X-ALT-DESC;FMTTYPE=text/html:
LOCATION:
UID:e.576.231
SEQUENCE:3
DTSTAMP:20260422T040105Z
URL:https://business.dyerchamber.com/events/details/ribbon-cutting-the-clinic-530-e-parkview-dyersburg-12-01-2009-231
END:VEVENT

END:VCALENDAR
