BEGIN:VCALENDAR
VERSION:2.0
PRODID:-//ChamberMaster//Event Calendar 2.0//EN
METHOD:PUBLISH
X-PUBLISHED-TTL:P3D
REFRESH-INTERVAL:P3D
CALSCALE:GREGORIAN
BEGIN:VEVENT
DTSTART:20100222T190000Z
DTEND:20100222T200000Z
X-MICROSOFT-CDO-ALLDAYEVENT:FALSE
SUMMARY:TEDC Meeting
DESCRIPTION:Meeting Notice:Tourism & Economic Development Commission MeetingReview of Q4 Revenue/Expenditure ReportUpdate on recent economic development initiatives.Closed meeting.
X-ALT-DESC;FMTTYPE=text/html:<div><div><b><u><font size="2"><span style="font-size: 10pt\; font-weight: bold">Meeting Notice:</span></font></u></b></div><div><font size="2"><span style="font-size: 10pt">Tourism &amp\; Economic Development Commission Meeting</span></font></div><div><font size="2"><span style="font-size: 10pt">Review of Q4 Revenue/Expenditure Report</span></font></div><div><font size="2"><span style="font-size: 10pt">Update on recent economic development initiatives.</span></font></div><div><font size="2"><span style="font-size: 10pt">Closed meeting.</span></font></div></div>
LOCATION:Chamber of CommerceExecutive Conference Room
UID:e.576.920
SEQUENCE:3
DTSTAMP:20260420T082305Z
URL:https://business.dyerchamber.com/events/details/tedc-meeting-02-22-2010-920
END:VEVENT

END:VCALENDAR
