BEGIN:VCALENDAR
VERSION:2.0
PRODID:-//ChamberMaster//Event Calendar 2.0//EN
METHOD:PUBLISH
X-PUBLISHED-TTL:P3D
REFRESH-INTERVAL:P3D
CALSCALE:GREGORIAN
BEGIN:VEVENT
DTSTART;VALUE=DATE:20101028
DTEND;VALUE=DATE:20101101
TRANSP:TRANSPARENT
X-MICROSOFT-CDO-ALLDAYEVENT:TRUE
SUMMARY:The Haunted Trail
DESCRIPTION:A Haunting in Dyersburg\nDyersburg Civitan Club and DSCC hosting The Haunted Trail.\n\nOn October 28-31\, the Richard E. Donner Arboretum and Nature Trail located behind the E. H. Lannom\, Jr. Gymnasium on the Dyersburg campus of Dyersburg State Community College will be transformed into a Haunted Trail.  Those brave enough to take this terrifying trek will be witness to scary scenarios all set up by members of the Dyersburg Civitan Club and the DSCC baseball team.\n\nThe Haunted Trail will be open from 6:00 ? 10:00 P.M.  and the cost for admission is $5.00 per person. Proceeds will benefit Civitan Club projects and the DSCC Baseball program.\n\nFor more information\, please contact Jane Pate Vondy at 731/286-3347.
X-ALT-DESC;FMTTYPE=text/html:A Haunting in Dyersburg\nDyersburg Civitan Club and DSCC hosting The Haunted Trail.\n\nOn October 28-31\, the Richard E. Donner Arboretum and Nature Trail located behind the E. H. Lannom\, Jr. Gymnasium on the Dyersburg campus of Dyersburg State Community College will be transformed into a Haunted Trail.  Those brave enough to take this terrifying trek will be witness to scary scenarios all set up by members of the Dyersburg Civitan Club and the DSCC baseball team.\n\nThe Haunted Trail will be open from 6:00 ? 10:00 P.M.  and the cost for admission is $5.00 per person. Proceeds will benefit Civitan Club projects and the DSCC Baseball program.\n\nFor more information\, please contact Jane Pate Vondy at 731/286-3347.\n<br>
LOCATION:Richard E. Donner Arboretum and Nature Trail located behind the E. H. Lannom\, Jr. Gymnasium on the Dyersburg campus of Dyersburg State Community College
UID:e.576.956
SEQUENCE:3
DTSTAMP:20260419T212840Z
URL:https://business.dyerchamber.com/events/details/the-haunted-trail-10-28-2010-956
END:VEVENT

END:VCALENDAR
