BEGIN:VCALENDAR
VERSION:2.0
PRODID:-//ChamberMaster//Event Calendar 2.0//EN
METHOD:PUBLISH
X-PUBLISHED-TTL:P3D
REFRESH-INTERVAL:P3D
CALSCALE:GREGORIAN
BEGIN:VEVENT
DTSTART;VALUE=DATE:20091107
DTEND;VALUE=DATE:20091108
TRANSP:TRANSPARENT
X-MICROSOFT-CDO-ALLDAYEVENT:TRUE
SUMMARY:Veterans Day Program
DESCRIPTION:The Veteran's Museum at the Halls Airbase in Halls\, TN will host a Veterans Day Program to honor all Veterans\, their service to our Country\, and our families. We will also have a ceremony for our new Memorial/Commemorative Courtyard.
X-ALT-DESC;FMTTYPE=text/html:<div>The Veteran's Museum at the Halls Airbase in Halls\, TN will host a Veterans Day Program to honor all Veterans\, their service to our Country\, and our families. We will also have a ceremony for our new Memorial/Commemorative Courtyard.</div>
LOCATION:Halls Airbase in Halls\, Tennessee
UID:e.576.189
SEQUENCE:3
DTSTAMP:20260422T035407Z
URL:https://business.dyerchamber.com/events/details/veterans-day-program-11-07-2009-189
END:VEVENT

END:VCALENDAR
