BEGIN:VCALENDAR
VERSION:2.0
PRODID:-//ChamberMaster//Event Calendar 2.0//EN
METHOD:PUBLISH
X-PUBLISHED-TTL:P3D
REFRESH-INTERVAL:P3D
CALSCALE:GREGORIAN
BEGIN:VEVENT
DTSTART;VALUE=DATE:20091221
DTEND;VALUE=DATE:20091222
TRANSP:TRANSPARENT
X-MICROSOFT-CDO-ALLDAYEVENT:TRUE
SUMMARY:William F. Pierce Goodfellows
DESCRIPTION:Join Kiwanis club\, key club and other community helpers with packing boxes of food for needy families this holiday season. Starts at 5:30pm at the Dyer County Fairgrounds Family Activity Building.
X-ALT-DESC;FMTTYPE=text/html:<div>Join Kiwanis club\, key club and other community helpers with packing boxes of food for needy families this holiday season. Starts at 5:30pm at the Dyer County Fairgrounds Family&nbsp\;Activity Building.</div>
LOCATION:Activity Bldg Fairgrounds
UID:e.576.200
SEQUENCE:3
DTSTAMP:20260422T035555Z
URL:https://business.dyerchamber.com/events/details/william-f-pierce-goodfellows-12-21-2009-200
END:VEVENT

END:VCALENDAR
